BEGIN:VCALENDAR
PRODID:-//eluceo/ical//2.0/EN
VERSION:2.0
CALSCALE:GREGORIAN
BEGIN:VEVENT
UID:3e18fe19e872b12b45af0fe5eff31877
DTSTAMP:20260424T110512Z
SUMMARY:Yom Hashoah Commemoration
DESCRIPTION:Jewish Federation of Orange County\nCommunity Calendar\nhttps:/
 /jewishorangecounty.org/community-calendar/yom-hashoah-commemoration-17636
 80013\n\nCommunity-wide commemoration and candle-lighting ceremony to reme
 mber the six million Jews who perished in the Holocaust and to pay tribute
  to the survivors.
DTSTART;TZID=America/Los_Angeles:20260413T180000
DTEND;TZID=America/Los_Angeles:20260413T200000
END:VEVENT
END:VCALENDAR
