BEGIN:VCALENDAR
PRODID:-//eluceo/ical//2.0/EN
VERSION:2.0
CALSCALE:GREGORIAN
BEGIN:VEVENT
UID:0bc7c2cdc9f23d7dd5ec5a927af2bf3c
DTSTAMP:20260420T233758Z
SUMMARY:They Arrived Via Canada: Tracing Canadian manifests and U.S. border
  records
DESCRIPTION:Jewish Federation of Orange County\nCommunity Calendar\nhttps:/
 /jewishorangecounty.org/community-calendar/they-arrived-via-canada-tracing
 -canadian-manifests-and-us-border-records-1776205100\n\nlecture on where a
 nd how to find arrival records from Canada and where and how to find recor
 ds of immigration into the United Stages from Canada.
DTSTART;TZID=America/Los_Angeles:20260426T100000
DTEND;TZID=America/Los_Angeles:20260426T120000
END:VEVENT
END:VCALENDAR
