BEGIN:VCALENDAR
PRODID:-//eluceo/ical//2.0/EN
VERSION:2.0
CALSCALE:GREGORIAN
BEGIN:VEVENT
UID:1e4a15faed9ce48c0080ae5f09936170
DTSTAMP:20260422T065756Z
SUMMARY:The Eloquence of Light
DESCRIPTION:Jewish Federation of Orange County\nCommunity Calendar\nhttps:/
 /jewishorangecounty.org/community-calendar/the-eloquence-of-light-17637120
 16\n\nAs Hanukkah’s unfolding days amplify light in the darkest season\,
  this program celebrates light as an artistic material and sensibility. Jo
 in artist Tobi Kahn to explore how leading contemporary artists shape perc
 eption through light\, space\, and time. We’ll look at works by: Bill Vi
 ola\, James Turrell\, Gerhard Richter\, Jenny Holzer\, Robert Irwin\, Hele
 n Pashgian\, Yayoi Kusama\, Doug Wheeler\, and Dan Flavin.
DTSTART;TZID=America/Los_Angeles:20251216T100000
DTEND;TZID=America/Los_Angeles:20251216T110000
END:VEVENT
END:VCALENDAR
