BEGIN:VCALENDAR
PRODID:-//eluceo/ical//2.0/EN
VERSION:2.0
CALSCALE:GREGORIAN
BEGIN:VEVENT
UID:b5487081c1b026e8f933f3c52a5e8414
DTSTAMP:20260422T025846Z
SUMMARY:Survival through Miracles
DESCRIPTION:Jewish Federation of Orange County\nCommunity Calendar\nhttps:/
 /jewishorangecounty.org/community-calendar/survival-through-miracles-17685
 17626\n\nSurvival through Miracles: An Evening with Eva SchneiderAt just e
 leven years old\, Eva entered the horrors of Auschwitz and survived agains
 t all odds. Now 92\, she now courageously shares her story as a living wit
 ness to history.Eva will recount the three miracles that sustained her thr
 ough Auschwitz and liberation\, offering a deeply moving story of faith\, 
 resilience and hope.Optional tour of the Holocaust Museum at 6:00 pmThe ev
 ening will include a candle lighting in remembrance of the six mil...
DTSTART;TZID=America/Los_Angeles:20260126T190000
DTEND;TZID=America/Los_Angeles:20260126T210000
END:VEVENT
END:VCALENDAR
