BEGIN:VCALENDAR
PRODID:-//eluceo/ical//2.0/EN
VERSION:2.0
CALSCALE:GREGORIAN
BEGIN:VEVENT
UID:937a17cbf95ffc81875eabd1221af7b8
DTSTAMP:20260422T060215Z
SUMMARY:Shakspeare and the Jews
DESCRIPTION:Jewish Federation of Orange County\nCommunity Calendar\nhttps:/
 /jewishorangecounty.org/community-calendar/shakspeare-and-the-jews-1763711
 508\n\nPart 3. Shakespeare’s Dark Lady Emilia Bassano Lanier\, the daugh
 ter of Venetian Jewish converso musicians\, is now widely believed to be t
 he most compelling candidate for Shakespeare’s Dark Lady – the mysteri
 ous woman alluded to in several of his sonnets. She was an accomplished po
 et in her own right. In this session we’ll look at her Jewish family roo
 ts\, her life as a woman in Elizabethan England\, and her writing\, which 
 was published in the Jacobean period. We’ll explore parallels b...
DTSTART;TZID=America/Los_Angeles:20251202T100000
DTEND;TZID=America/Los_Angeles:20251202T110000
END:VEVENT
END:VCALENDAR
