BEGIN:VCALENDAR
PRODID:-//eluceo/ical//2.0/EN
VERSION:2.0
CALSCALE:GREGORIAN
BEGIN:VEVENT
UID:9efea50d9c61cd9f9474cbc135874cc3
DTSTAMP:20260422T040324Z
SUMMARY:OC MEGA CHALLAH BAKE
DESCRIPTION:Jewish Federation of Orange County\nCommunity Calendar\nhttps:/
 /jewishorangecounty.org/community-calendar/oc-mega-challah-bake-1768782060
 \n\nEvent for women and girls where we share unity and community while we 
 do the mitzvah of challah.
DTSTART;TZID=America/Los_Angeles:20261029T053000
DTEND;TZID=America/Los_Angeles:20261029T093000
END:VEVENT
END:VCALENDAR
