BEGIN:VCALENDAR
PRODID:-//eluceo/ical//2.0/EN
VERSION:2.0
CALSCALE:GREGORIAN
BEGIN:VEVENT
UID:90be5d77a131ef096f7ec4b431dc54ca
DTSTAMP:20260424T150306Z
SUMMARY:OC Hillel Heroes
DESCRIPTION:Jewish Federation of Orange County\nCommunity Calendar\nhttps:/
 /jewishorangecounty.org/community-calendar/oc-hillel-heroes-1764097904\n\n
 Celebrate our OC Hillel students and honorees
DTSTART;TZID=America/Los_Angeles:20260419T150000
DTEND;TZID=America/Los_Angeles:20260419T180000
END:VEVENT
END:VCALENDAR
