BEGIN:VCALENDAR
PRODID:-//eluceo/ical//2.0/EN
VERSION:2.0
CALSCALE:GREGORIAN
BEGIN:VEVENT
UID:bc5507d647b45badad9e564378de3f59
DTSTAMP:20260424T170651Z
SUMMARY:NextGen Outdoors:  Newport Back Bay Walk and Brunch
DESCRIPTION:Jewish Federation of Orange County\nCommunity Calendar\nhttps:/
 /jewishorangecounty.org/community-calendar/nextgen-outdoors--newport-back-
 bay-walk-and-brunch-1749512040\n\nBack Bay &amp\; Brunch with NextGen\nSun
 day\, June 29th\n10:00 AM – 11:30 AM | Walk/Run\n11:30 AM – 1:00 PM | 
 Brunch &amp\; Coffee\n\nStart your Sunday with fresh air\, great company\,
  and laid-back vibes! Join NextGen for a scenic walk\, jog\, or run along 
 Newport’s beautiful Back Bay Loop Trail. All paces are welcome—from se
 asoned runners to casual strollers. Prefer to skip the walk? No problem—
 meet us directly at the café at 11:30 AM.\n\nAfter the trail\, we’ll he
 ad to a local spot to fuel...
DTSTART;TZID=America/Los_Angeles:20250629T100000
DTEND;TZID=America/Los_Angeles:20250629T130000
END:VEVENT
END:VCALENDAR
