BEGIN:VCALENDAR
PRODID:-//eluceo/ical//2.0/EN
VERSION:2.0
CALSCALE:GREGORIAN
BEGIN:VEVENT
UID:a9981eef20dddecc4c3d58e670093a66
DTSTAMP:20260422T042822Z
SUMMARY:Made in Heaven:The Joyous Art of the Ketubah through the Ages
DESCRIPTION:Jewish Federation of Orange County\nCommunity Calendar\nhttps:/
 /jewishorangecounty.org/community-calendar/made-in-heaventhe-joyous-art-of
 -the-ketubah-through-the-ages-1763711821\n\nThe ketubah\, the Jewish marri
 age contract\, is one of the most fascinating and beautiful expressions of
  Jewish life and art. Far more than a legal document\, it opens a vivid wi
 ndow onto centuries of Jewish history\, telling the stories of couples\, f
 amilies\, and communities across the world. Often adorned with colorful de
 corations and rich symbolism\, ketubot celebrate love\, family\, and faith
  while reflecting the artistic styles of their time and place. From the el
 egant masterpieces of seventeent...
DTSTART;TZID=America/Los_Angeles:20251221T100000
DTEND;TZID=America/Los_Angeles:20251221T110000
END:VEVENT
END:VCALENDAR
