BEGIN:VCALENDAR
PRODID:-//eluceo/ical//2.0/EN
VERSION:2.0
CALSCALE:GREGORIAN
BEGIN:VEVENT
UID:57d999e167684ad8cbf911ea04bc7150
DTSTAMP:20260425T040042Z
SUMMARY:K-12 Antisemitism with Brandy Shufutinsky at Congregation B'Nai Isr
 ael
DESCRIPTION:Jewish Federation of Orange County\nCommunity Calendar\nhttps:/
 /jewishorangecounty.org/community-calendar/k-12-antisemitism-with-brandy-s
 hufutinsky-at-congregation-bnai-israel-1756421565\n\nhttps://www.cbi18.org
 /form/108J-school \nAntisemitism is raging in our educational system.  Ple
 ase come and hear one of the country's foremost experts on Antisemitism in
  our schools.  Bring friends and family!  The entire community needs to he
 ar first hand and gather some tools to advocate for yourselves and your ch
 ildren!  The event is no cost but please sign up at the link below!\nhttps
 ://www.cbi18.org/form/108J-school
DTSTART;TZID=America/Los_Angeles:20250906T180000
DTEND;TZID=America/Los_Angeles:20250906T200000
END:VEVENT
END:VCALENDAR
