BEGIN:VCALENDAR
PRODID:-//eluceo/ical//2.0/EN
VERSION:2.0
CALSCALE:GREGORIAN
BEGIN:VEVENT
UID:0ea89350c9fece2cef984b0e511c1dc1
DTSTAMP:20260422T052930Z
SUMMARY:JLI - Captivating Cases in Rabbinic Responsa
DESCRIPTION:Jewish Federation of Orange County\nCommunity Calendar\nhttps:/
 /jewishorangecounty.org/community-calendar/jli---captivating-cases-in-rabb
 inic-responsa-1768424438\n\nAcross history\, many rabbis wrote down the qu
 estions they were asked. These questions—and their answers—are publish
 ed in some six thousand books of “rabbinic responsa.” This topic is fa
 scinating for two reasons:1. When a Jew in Auschwitz asks whether he can s
 ave his only son because someone else would be killed in his place\, the q
 uestion alone tells a whole heartbreaking story. Some of the questions we
 ’ll explore are relatively mundane (1866\, Jerusalem: “Is this strange
  new breed ...
DTSTART;TZID=America/Los_Angeles:20260120T190000
DTEND;TZID=America/Los_Angeles:20260120T203000
END:VEVENT
END:VCALENDAR
