BEGIN:VCALENDAR
PRODID:-//eluceo/ical//2.0/EN
VERSION:2.0
CALSCALE:GREGORIAN
BEGIN:VEVENT
UID:aef61483b6e02fad686054b5fd9c8d3b
DTSTAMP:20260422T052941Z
SUMMARY:In God's Image: How Western Civilization was Shaped by a Revolution
 ary Idea
DESCRIPTION:Jewish Federation of Orange County\nCommunity Calendar\nhttps:/
 /jewishorangecounty.org/community-calendar/in-gods-image-how-western-civil
 ization-was-shaped-by-a-revolutionary-idea-1763712411\n\nJoin Dr. Tomer Pe
 rsico to celebrate the launch of the English edition of his groundbreaking
  book\, In God’s Image: How Western Civilization Was Shaped by a Revolut
 ionary Idea. In this bold and sweeping narrative\, Persico puts ideas—no
 t armies\, empires\, or economies—at the center of the story and asks a 
 provocative question: Why the West? Tracing how the radical notion that hu
 man beings are created “in the image of God” reshaped politics\, moral
 ity\, and individual dignity\, he offers a ...
DTSTART;TZID=America/Los_Angeles:20251228T100000
DTEND;TZID=America/Los_Angeles:20251228T110000
END:VEVENT
END:VCALENDAR
