BEGIN:VCALENDAR
PRODID:-//eluceo/ical//2.0/EN
VERSION:2.0
CALSCALE:GREGORIAN
BEGIN:VEVENT
UID:543e29bfaea3095c7210f3aa1f2020bf
DTSTAMP:20260422T194618Z
SUMMARY:Holy Loopholes  Adaptation and Integrity in Jewish Law
DESCRIPTION:Jewish Federation of Orange County\nCommunity Calendar\nhttps:/
 /jewishorangecounty.org/community-calendar/holy-loopholes--adaptation-and-
 integrity-in-jewish-law-1776773917\n\nJoin us for a provocative and engagi
 ng series on some of the most eyebrow-raising practices in Jewish law — 
 from the Eruv and selling Chametz to Heter Iska\, Prozbul\, Shemitah sales
 \, Shabbat elevators\, and more — beginning with an opening session titl
 ed “Are the Clever Jews Trying to Fake Us Out?” We start with the nagg
 ing question many people have when they encounter these practices: are the
 se authentic expressions of halachic seriousness\, or just brilliant relig
 ious workarounds dress...
DTSTART;TZID=America/Los_Angeles:20260531T123000
DTEND;TZID=America/Los_Angeles:20260531T133000
END:VEVENT
END:VCALENDAR
