BEGIN:VCALENDAR
PRODID:-//eluceo/ical//2.0/EN
VERSION:2.0
CALSCALE:GREGORIAN
BEGIN:VEVENT
UID:a1aab30c20c7488c9a312e74f77e8348
DTSTAMP:20260422T030204Z
SUMMARY:Four Jewish Revolutionaries
DESCRIPTION:Jewish Federation of Orange County\nCommunity Calendar\nhttps:/
 /jewishorangecounty.org/community-calendar/four-jewish-revolutionaries-176
 3711700\n\nJoin us as we delve into the lives and legacies of four influen
 tial Jewish revolutionaries who played pivotal roles in shaping modern his
 tory. In these sessions\, we will explore their backgrounds\, beliefs\, an
 d the impact they had on their respective movements and societies. Through
  engaging narratives and insightful analysis\, we will gain a deeper under
 standing of how these figures—each driven by their unique interpretation
 s of justice and freedom—helped to shape the revolutionary fervor ...
DTSTART;TZID=America/Los_Angeles:20251225T123000
DTEND;TZID=America/Los_Angeles:20251225T133000
END:VEVENT
END:VCALENDAR
