BEGIN:VCALENDAR
PRODID:-//eluceo/ical//2.0/EN
VERSION:2.0
CALSCALE:GREGORIAN
BEGIN:VEVENT
UID:45af88f94e69cb1412be0149b91558d3
DTSTAMP:20260422T053011Z
SUMMARY:Fashion Island Menorah Lighting
DESCRIPTION:Jewish Federation of Orange County\nCommunity Calendar\nhttps:/
 /jewishorangecounty.org/community-calendar/fashion-island-menorah-lighting
 -1764019639\n\nIn the Atrium Court by Barnes &amp\; Noble\n\nMusical perfo
 rmance\n\n* Chanukah crafts\n* Dreidels and doughnuts\n* Balloon animals\n
 * Face painting\n* Gifts and treats for kids\n\nBring an unwrapped toy for
  the community Toy Drive\n\nNo charge * event sponsor $250
DTSTART;TZID=America/Los_Angeles:20251214T150000
DTEND;TZID=America/Los_Angeles:20251214T170000
END:VEVENT
END:VCALENDAR
