BEGIN:VCALENDAR
PRODID:-//eluceo/ical//2.0/EN
VERSION:2.0
CALSCALE:GREGORIAN
BEGIN:VEVENT
UID:1d57d48363ef5118c5d24a9aedfcea48
DTSTAMP:20260424T221749Z
SUMMARY:Family Hannukah Lattke Dinner and Activites
DESCRIPTION:Jewish Federation of Orange County\nCommunity Calendar\nhttps:/
 /jewishorangecounty.org/community-calendar/family-hannukah-lattke-dinner-a
 nd-activites-1697487603\n\nFamily Hannukah Celebration with Lattke dinner 
 and Shabbat Services
DTSTART;TZID=America/Los_Angeles:20231201T170000
DTEND;TZID=America/Los_Angeles:20231201T190000
END:VEVENT
END:VCALENDAR
