BEGIN:VCALENDAR
PRODID:-//eluceo/ical//2.0/EN
VERSION:2.0
CALSCALE:GREGORIAN
BEGIN:VEVENT
UID:202974c58ab01ce825e0f4ef367644e8
DTSTAMP:20260422T194628Z
SUMMARY:CSP- The Arch of Titus From Jerusalem to Rome and Back
DESCRIPTION:Jewish Federation of Orange County\nCommunity Calendar\nhttps:/
 /jewishorangecounty.org/community-calendar/csp--the-arch-of-titus-from-jer
 usalem-to-rome-and-back-1776774541\n\nJoin us for a fascinating journey th
 rough one of the most powerful and contested images in Jewish history: the
  Arch of Titus. Stretching from the Roman destruction of Jerusalem to the 
 rise of the modern State of Israel\, this rich and thought-provoking progr
 am will explore the Arch as an ancient Roman monument\, a witness to Jewis
 h encounter and memory in the classical world\, a charged object in mediev
 al and Christian imagination\, and ultimately a symbol that has taken on o
 utsized meaning in mo...
DTSTART;TZID=America/Los_Angeles:20260528T100000
DTEND;TZID=America/Los_Angeles:20260528T110000
END:VEVENT
END:VCALENDAR
