BEGIN:VCALENDAR
PRODID:-//eluceo/ical//2.0/EN
VERSION:2.0
CALSCALE:GREGORIAN
BEGIN:VEVENT
UID:5ea8f8a2ffebc150fab0c3452a5dfaa6
DTSTAMP:20260422T194648Z
SUMMARY:CSP -Jewish Vienna  Memory in Alsergrund
DESCRIPTION:Jewish Federation of Orange County\nCommunity Calendar\nhttps:/
 /jewishorangecounty.org/community-calendar/csp--jewish-vienna--memory-in-a
 lsergrund-1776773659\n\nJoin us for a moving walk through Vienna’s 9th d
 istrict\, Alsergrund\, once the neighborhood with the highest concentratio
 n of Jewish residents in the city and a vibrant center of Jewish professio
 nal\, cultural\, and middle-class life. As we trace the streets where Jewi
 sh families built lives\, sought opportunity\, and navigated the promise a
 nd pressures of integration into Austrian society\, we will look for the l
 ingering marks of a world shattered in 1938 and visit the Wall of Names\, 
 the powerfu...
DTSTART;TZID=America/Los_Angeles:20260505T100000
DTEND;TZID=America/Los_Angeles:20260505T110000
END:VEVENT
END:VCALENDAR
