BEGIN:VCALENDAR
PRODID:-//eluceo/ical//2.0/EN
VERSION:2.0
CALSCALE:GREGORIAN
BEGIN:VEVENT
UID:f7253ea3d2ae2bc4072e35c77af95083
DTSTAMP:20260422T194658Z
SUMMARY:CSp - The First Writer on Earth
DESCRIPTION:Jewish Federation of Orange County\nCommunity Calendar\nhttps:/
 /jewishorangecounty.org/community-calendar/csp---the-first-writer-on-earth
 -1776774431\n\nRichard Elliott Friedman’s newest project is a work of hi
 storical fiction about a writer he first identified in his books Who Wrote
  the Bible? and The Hidden Book in the Bible. That writer was a woman who 
 lived in Jerusalem three thousand years ago\, when Solomon was the king. S
 he wrote history five hundred years before Herodotus. She wrote fiction mi
 llennia before Don Quixote. Friedman’s new work is a story — a possibi
 lity — of how this writer came to create the Bible’s longest text...
DTSTART;TZID=America/Los_Angeles:20260521T100000
DTEND;TZID=America/Los_Angeles:20260521T110000
END:VEVENT
END:VCALENDAR
