BEGIN:VCALENDAR
PRODID:-//eluceo/ical//2.0/EN
VERSION:2.0
CALSCALE:GREGORIAN
BEGIN:VEVENT
UID:ccd467a0cdb58b340120c46219d38091
DTSTAMP:20260422T194638Z
SUMMARY:CSP - Shining Light into the Fog of War
DESCRIPTION:Jewish Federation of Orange County\nCommunity Calendar\nhttps:/
 /jewishorangecounty.org/community-calendar/csp---shining-light-into-the-fo
 g-of-war-1776773779\n\nJoin Rabbi Elie Spitz for a timely and thought-prov
 oking conversation with Yossi Klein Halevi\, one of the most insightful an
 d influential interpreters of Israeli society today. Drawing on decades of
  deep engagement with Israel’s political\, cultural\, and spiritual life
 \, Halevi will offer a deeply personal and sharply informed perspective on
  Israel’s evolving identity in a time of crisis\, resilience\, and trans
 formation\, including the ongoing conflict with Iran and its wider regiona
 l and mor...
DTSTART;TZID=America/Los_Angeles:20260507T100000
DTEND;TZID=America/Los_Angeles:20260507T110000
END:VEVENT
END:VCALENDAR
