BEGIN:VCALENDAR
PRODID:-//eluceo/ical//2.0/EN
VERSION:2.0
CALSCALE:GREGORIAN
BEGIN:VEVENT
UID:e60dec41eaa46fc750276447bb2cc421
DTSTAMP:20260424T184121Z
SUMMARY:CSP - La Belle Juive\, The Beautiful Jewess
DESCRIPTION:Jewish Federation of Orange County\nCommunity Calendar\nhttps:/
 /jewishorangecounty.org/community-calendar/csp---la-belle-juive-the-beauti
 ful-jewess-1747590890\n\nThe concept of La Belle Juive—the beautiful Jew
 ess—originated in medieval literature and visual art\, evolving into a c
 omplex archetype that\, by the late nineteenth and early twentieth centuri
 es\, became entangled with modern antisemitic tropes in European culture. 
 These portrayals often depicted Jewish women as exotic\, noble\, and intel
 ligent\, yet simultaneously seductive\, subversive\, and threatening to We
 stern norms. In this series\, we will explore the lives of four extraordin
 ary and creat...
DTSTART;TZID=America/Los_Angeles:20250629T100000
DTEND;TZID=America/Los_Angeles:20250629T110000
END:VEVENT
END:VCALENDAR
