BEGIN:VCALENDAR
PRODID:-//eluceo/ical//2.0/EN
VERSION:2.0
CALSCALE:GREGORIAN
BEGIN:VEVENT
UID:8fed8d8d4f2579627cb8152dde6ba767
DTSTAMP:20260422T205831Z
SUMMARY:CSP - From Fanny to the Nanny  Jewish Women\,  in American Comedy
DESCRIPTION:Jewish Federation of Orange County\nCommunity Calendar\nhttps:/
 /jewishorangecounty.org/community-calendar/csp---from-fanny-to-the-nanny--
 jewish-women--in-american-comedy-1776774325\n\nJoin actor and television m
 aven Callie Raynor for a lively exploration of how Jewish women have been 
 portrayed on the small screen\, beginning with Molly Goldberg\, America’
 s first Jewish TV mom\, who debuted in 1949. Through the work of stars and
  creators such as Fran Drescher\, Julia Louis-Dreyfus\, and Rachel Bloom\,
  we’ll trace the evolution of these portrayals\, consider the impact of 
 early Jewish characters\, and reflect on both the progress made and the ga
 ps in representation that still re...
DTSTART;TZID=America/Los_Angeles:20260514T100000
DTEND;TZID=America/Los_Angeles:20260514T110000
END:VEVENT
END:VCALENDAR
