BEGIN:VCALENDAR
PRODID:-//eluceo/ical//2.0/EN
VERSION:2.0
CALSCALE:GREGORIAN
BEGIN:VEVENT
UID:2f1854b99441d68db8bd503da9b8a10b
DTSTAMP:20260422T194708Z
SUMMARY:CSP - DIRSHUNI  Ancient Texts\, New Voices
DESCRIPTION:Jewish Federation of Orange County\nCommunity Calendar\nhttps:/
 /jewishorangecounty.org/community-calendar/csp---dirshuni--ancient-texts-n
 ew-voices-1776774174\n\nJoin Tamar Biala for a three-part series exploring
  how ancient forms of storytelling are being reshaped to respond to the mo
 st urgent realities of our time. Through the lens of contemporary midrash\
 , these sessions bring together scholarship\, personal testimony\, and cre
 ative expression. Guided by Tamar and her guests\, we will encounter voice
 s that bridge past and present\, revealing how traditional Jewish interpre
 tive tools can help process grief\, hold complexity\, and search for meani
 ng in mome...
DTSTART;TZID=America/Los_Angeles:20260526T100000
DTEND;TZID=America/Los_Angeles:20260526T110000
END:VEVENT
END:VCALENDAR
