BEGIN:VCALENDAR
PRODID:-//eluceo/ical//2.0/EN
VERSION:2.0
CALSCALE:GREGORIAN
BEGIN:VEVENT
UID:0db199665f0915d53e149ec83a7bff43
DTSTAMP:20260422T024605Z
SUMMARY:Countering Hate summit
DESCRIPTION:Jewish Federation of Orange County\nCommunity Calendar\nhttps:/
 /jewishorangecounty.org/community-calendar/countering-hate-summit-17026041
 19\n\n.
DTSTART;TZID=America/Los_Angeles:20240208T130000
DTEND;TZID=America/Los_Angeles:20240208T170000
END:VEVENT
END:VCALENDAR
