BEGIN:VCALENDAR
PRODID:-//eluceo/ical//2.0/EN
VERSION:2.0
CALSCALE:GREGORIAN
BEGIN:VEVENT
UID:1fc0ea9b44543124924fd4a6d82038f1
DTSTAMP:20260422T030214Z
SUMMARY:Community Chanukah Celebration
DESCRIPTION:Jewish Federation of Orange County\nCommunity Calendar\nhttps:/
 /jewishorangecounty.org/community-calendar/community-chanukah-celebration-
 1679523641\n\nCommunity Chanukah celebration at the Merage JCC on Wednesda
 y\, December 13 from 5 - 7 p.m. Celebrate Chanukah with the OC Jewish Comm
 unity. Free and open to all!
DTSTART;TZID=America/Los_Angeles:20231213T170000
DTEND;TZID=America/Los_Angeles:20231213T190000
END:VEVENT
END:VCALENDAR
