BEGIN:VCALENDAR
PRODID:-//eluceo/ical//2.0/EN
VERSION:2.0
CALSCALE:GREGORIAN
BEGIN:VEVENT
UID:31fee7a452a5cfcca4f682b355b38323
DTSTAMP:20260422T042830Z
SUMMARY:Chanukah Concert and Fire Truck Gelt Drop
DESCRIPTION:Jewish Federation of Orange County\nCommunity Calendar\nhttps:/
 /jewishorangecounty.org/community-calendar/chanukah-concert-and-fire-truck
 -gelt-drop-1764019740\n\nUnite for Light* Ice Cream Truck * Menorah Lighti
 ng * Face painting * Chanukah crafts * Gifts for children * Dreidels and d
 oughnutsNo charge * Event Sponsor $250
DTSTART;TZID=America/Los_Angeles:20251221T130000
DTEND;TZID=America/Los_Angeles:20251221T150000
END:VEVENT
END:VCALENDAR
