BEGIN:VCALENDAR
PRODID:-//eluceo/ical//2.0/EN
VERSION:2.0
CALSCALE:GREGORIAN
BEGIN:VEVENT
UID:04fa3ebf4ee7d0086bfee8423e3a982c
DTSTAMP:20260424T061920Z
SUMMARY:Chanukah Comedy Night
DESCRIPTION:Jewish Federation of Orange County\nCommunity Calendar\nhttps:/
 /jewishorangecounty.org/community-calendar/chanukah-comedy-night-176488422
 9\n\nChanukah Comedy Night featuring legendary funnyman Steve MittlemanBri
 ng your friends for a Comedy Night featuring comedian Steve Mittleman* Buf
 fet Dinner * Open Bar * Lot of Laughs
DTSTART;TZID=America/Los_Angeles:20251220T200000
DTEND;TZID=America/Los_Angeles:20251220T220000
END:VEVENT
END:VCALENDAR
