BEGIN:VCALENDAR
PRODID:-//eluceo/ical//2.0/EN
VERSION:2.0
CALSCALE:GREGORIAN
BEGIN:VEVENT
UID:f042a8929e49dee6ca3591b32559d3a0
DTSTAMP:20260421T000014Z
SUMMARY:Camp Haverim at the JCC
DESCRIPTION:Jewish Federation of Orange County\nCommunity Calendar\nhttps:/
 /jewishorangecounty.org/community-calendar/camp-haverim-at-the-jcc-1776190
 106\n\nCamp Haverim is an accredited camp by the American Camp Association
 - adhering to the highest standards. it is located in the state of the art
  facility at the JCC with on-site pool\, gym and theater. we offer a wide 
 variety of activities and options for ALL grades from TK-10th. Camp Haveri
 m offers flexible scheduling and enrollment\, we promote independence\, re
 silience\, personal growth and creativity. Camp Haverim offers swim and sa
 fety recreational pool time. Camp employs two Judaic enrichment ...
DTSTART;TZID=America/Los_Angeles:20260608T090000
DTEND;TZID=America/Los_Angeles:20260814T180000
END:VEVENT
END:VCALENDAR
