BEGIN:VCALENDAR
PRODID:-//eluceo/ical//2.0/EN
VERSION:2.0
CALSCALE:GREGORIAN
BEGIN:VEVENT
UID:8f4464e187844c1470b815b34b311e4c
DTSTAMP:20260422T111831Z
SUMMARY:A Recovered Antisemite:  When the Enemy Becomes the Ally with Rawan
  Osman
DESCRIPTION:Jewish Federation of Orange County\nCommunity Calendar\nhttps:/
 /jewishorangecounty.org/community-calendar/a-recovered-antisemite--when-th
 e-enemy-becomes-the-ally-with-rawan-osman-1764019475\n\nWhat happens when 
 someone raised to hate chooses truth instead?Meet Rawan Osman\, whose extr
 aordinary journey from inherited antisemitism to moral clarity and courage
  is inspiring audiences around the world.Join us for this eye-opening conv
 ersation about transformation\, honesty\, and hope.Students attend for fre
 e
DTSTART;TZID=America/Los_Angeles:20251204T190000
DTEND;TZID=America/Los_Angeles:20251204T210000
END:VEVENT
END:VCALENDAR
