BEGIN:VCALENDAR
PRODID:-//eluceo/ical//2.0/EN
VERSION:2.0
CALSCALE:GREGORIAN
BEGIN:VEVENT
UID:aae587ba06ca28f3981581220c14b9e4
DTSTAMP:20260422T042840Z
SUMMARY:A House with a Secret: Rediscovering the Będzin Ghetto Hideout
DESCRIPTION:Jewish Federation of Orange County\nCommunity Calendar\nhttps:/
 /jewishorangecounty.org/community-calendar/a-house-with-a-secret-rediscove
 ring-the-bdzin-ghetto-hideout-1763711907\n\nJoin Dr. Aleksandra (Ola) Janu
 ṡ for the remarkable story of one very modest house in the former Będz
 in Ghetto—and the extraordinary history it’s been hiding. Once a secre
 t hideout of the Jewish Combat Organization\, this unassuming building was
  recently rediscovered by two activists in Poland who purchased it and\, t
 ogether with Dr. Januṡ\, are transforming it into a living center for ar
 t\, research\, education\, and a community garden. Part detective tale\, p
 art “Indiana Jones” advent...
DTSTART;TZID=America/Los_Angeles:20251209T100000
DTEND;TZID=America/Los_Angeles:20251209T110000
END:VEVENT
END:VCALENDAR
