BEGIN:VCALENDAR
PRODID:-//eluceo/ical//2.0/EN
VERSION:2.0
CALSCALE:GREGORIAN
BEGIN:VEVENT
UID:8ce4673b5f70918650e651555b0f3ba3
DTSTAMP:20260422T052951Z
SUMMARY:A Feather in Judith’s Cap: A Newly Acquired Chanukah Menorah
DESCRIPTION:Jewish Federation of Orange County\nCommunity Calendar\nhttps:/
 /jewishorangecounty.org/community-calendar/a-feather-in-judiths-cap-a-newl
 y-acquired-chanukah-menorah-1763712293\n\nJoin Simona Di Nepi for a specia
 l Hanukkah talk shining a spotlight on one of the most exciting new Judaic
 a acquisitions at the Museum of Fine Arts\, Boston: a dazzling silver Hanu
 kkah lamp from the 1760s\, made in Breslau by German silversmith Johann Er
 nst Braungart and featuring a fabulously dressed Judith and her servant in
  pride of place. Why does Judith appear on Hanukkah lamps at all? What can
  this surprising image—and its comparison with other Hanukkiot from the 
 same era—reveal about...
DTSTART;TZID=America/Los_Angeles:20251222T100000
DTEND;TZID=America/Los_Angeles:20251222T110000
END:VEVENT
END:VCALENDAR
